﻿BEGIN:VCALENDAR
VERSION:2.0
PRODID:-//Aktiv&#039;Avignon - Sorties - Loisirs - Activités - Nouveaux arrivants - Vaucluse - Association - ECPv4.7.2//NONSGML v1.0//EN
CALSCALE:GREGORIAN
METHOD:PUBLISH
X-WR-CALNAME:Aktiv&#039;Avignon - Sorties - Loisirs - Activités - Nouveaux arrivants - Vaucluse - Association
X-ORIGINAL-URL:https://www.aktivavignon.com
X-WR-CALDESC:Évènements pour Aktiv&#039;Avignon - Sorties - Loisirs - Activités - Nouveaux arrivants - Vaucluse - Association
BEGIN:VEVENT
DTSTART;TZID=Europe/Paris:20191228T080000
DTEND;TZID=Europe/Paris:20191229T170000
DTSTAMP:20260423T052433
CREATED:20191226T181144Z
LAST-MODIFIED:20191226T181144Z
UID:39212397-1577520000-1577638800@www.aktivavignon.com
SUMMARY:Week-end rando
DESCRIPTION:
URL:https://www.aktivavignon.com/agenda/week-end-rando/
CATEGORIES:Sorties
END:VEVENT
END:VCALENDAR