﻿BEGIN:VCALENDAR
VERSION:2.0
PRODID:-//Aktiv&#039;Avignon - Sorties - Loisirs - Activités - Nouveaux arrivants - Vaucluse - Association - ECPv4.7.2//NONSGML v1.0//EN
CALSCALE:GREGORIAN
METHOD:PUBLISH
X-WR-CALNAME:Aktiv&#039;Avignon - Sorties - Loisirs - Activités - Nouveaux arrivants - Vaucluse - Association
X-ORIGINAL-URL:https://www.aktivavignon.com
X-WR-CALDESC:Évènements pour Aktiv&#039;Avignon - Sorties - Loisirs - Activités - Nouveaux arrivants - Vaucluse - Association
BEGIN:VEVENT
DTSTART;VALUE=DATE:20191229
DTEND;VALUE=DATE:20191230
DTSTAMP:20260423T065556
CREATED:20191113T215710Z
LAST-MODIFIED:20191113T215710Z
UID:39060851-1577577600-1577663999@www.aktivavignon.com
SUMMARY:Spectacle la Flûte Enchantée
DESCRIPTION:
URL:https://www.aktivavignon.com/agenda/spectacle-la-flute-enchantee/
CATEGORIES:Sorties
END:VEVENT
END:VCALENDAR