﻿BEGIN:VCALENDAR
VERSION:2.0
PRODID:-//Aktiv&#039;Avignon - Sorties - Loisirs - Activités - Nouveaux arrivants - Vaucluse - Association - ECPv4.7.2//NONSGML v1.0//EN
CALSCALE:GREGORIAN
METHOD:PUBLISH
X-WR-CALNAME:Aktiv&#039;Avignon - Sorties - Loisirs - Activités - Nouveaux arrivants - Vaucluse - Association
X-ORIGINAL-URL:https://www.aktivavignon.com
X-WR-CALDESC:Évènements pour Aktiv&#039;Avignon - Sorties - Loisirs - Activités - Nouveaux arrivants - Vaucluse - Association
BEGIN:VEVENT
DTSTART;TZID=Europe/Paris:20220617T080000
DTEND;TZID=Europe/Paris:20220617T170000
DTSTAMP:20260421T110648
CREATED:20220511T160930Z
LAST-MODIFIED:20220511T160930Z
UID:42592938-1655452800-1655485200@www.aktivavignon.com
SUMMARY:Soirée à Velleron
DESCRIPTION:
URL:https://www.aktivavignon.com/agenda/soiree-a-velleron/
END:VEVENT
END:VCALENDAR