﻿BEGIN:VCALENDAR
VERSION:2.0
PRODID:-//Aktiv&#039;Avignon - Sorties - Loisirs - Activités - Nouveaux arrivants - Vaucluse - Association - ECPv4.7.2//NONSGML v1.0//EN
CALSCALE:GREGORIAN
METHOD:PUBLISH
X-WR-CALNAME:Aktiv&#039;Avignon - Sorties - Loisirs - Activités - Nouveaux arrivants - Vaucluse - Association
X-ORIGINAL-URL:https://www.aktivavignon.com
X-WR-CALDESC:Évènements pour Aktiv&#039;Avignon - Sorties - Loisirs - Activités - Nouveaux arrivants - Vaucluse - Association
BEGIN:VEVENT
DTSTART;TZID=Europe/Paris:20220910T210000
DTEND;TZID=Europe/Paris:20220910T230000
DTSTAMP:20260425T141534
CREATED:20220914T132111Z
LAST-MODIFIED:20220914T132111Z
UID:43217889-1662843600-1662850800@www.aktivavignon.com
SUMMARY:"Revoir Paris" à l'Utopia
DESCRIPTION:Séance de 21h à l’Utopia \n \n
URL:https://www.aktivavignon.com/agenda/revoir-paris-a-lutopia/
END:VEVENT
END:VCALENDAR