﻿BEGIN:VCALENDAR
VERSION:2.0
PRODID:-//Aktiv&#039;Avignon - Sorties - Loisirs - Activités - Nouveaux arrivants - Vaucluse - Association - ECPv4.7.2//NONSGML v1.0//EN
CALSCALE:GREGORIAN
METHOD:PUBLISH
X-WR-CALNAME:Aktiv&#039;Avignon - Sorties - Loisirs - Activités - Nouveaux arrivants - Vaucluse - Association
X-ORIGINAL-URL:https://www.aktivavignon.com
X-WR-CALDESC:Évènements pour Aktiv&#039;Avignon - Sorties - Loisirs - Activités - Nouveaux arrivants - Vaucluse - Association
BEGIN:VEVENT
DTSTART;VALUE=DATE:20191027
DTEND;VALUE=DATE:20191028
DTSTAMP:20260423T003720
CREATED:20191022T105250Z
LAST-MODIFIED:20191022T105250Z
UID:38990362-1572134400-1572220799@www.aktivavignon.com
SUMMARY:Randonnée dans les Alpilles
DESCRIPTION:
URL:https://www.aktivavignon.com/agenda/randonnee-dans-les-alpilles/
CATEGORIES:Sorties
END:VEVENT
END:VCALENDAR