﻿BEGIN:VCALENDAR
VERSION:2.0
PRODID:-//Aktiv&#039;Avignon - Sorties - Loisirs - Activités - Nouveaux arrivants - Vaucluse - Association - ECPv4.7.2//NONSGML v1.0//EN
CALSCALE:GREGORIAN
METHOD:PUBLISH
X-WR-CALNAME:Aktiv&#039;Avignon - Sorties - Loisirs - Activités - Nouveaux arrivants - Vaucluse - Association
X-ORIGINAL-URL:https://www.aktivavignon.com
X-WR-CALDESC:Évènements pour Aktiv&#039;Avignon - Sorties - Loisirs - Activités - Nouveaux arrivants - Vaucluse - Association
BEGIN:VEVENT
DTSTART;VALUE=DATE:20191005
DTEND;VALUE=DATE:20191007
DTSTAMP:20260425T161627
CREATED:20190922T185339Z
LAST-MODIFIED:20190922T185339Z
UID:38690383-1570233600-1570406399@www.aktivavignon.com
SUMMARY:[pour info] Journées Nationales de la Spéléo à Saint Christol d'Albion
DESCRIPTION:
URL:https://www.aktivavignon.com/agenda/pour-info-journees-nationales-de-la-speleo-a-saint-christol-dalbion/
END:VEVENT
END:VCALENDAR