﻿BEGIN:VCALENDAR
VERSION:2.0
PRODID:-//Aktiv&#039;Avignon - Sorties - Loisirs - Activités - Nouveaux arrivants - Vaucluse - Association - ECPv4.7.2//NONSGML v1.0//EN
CALSCALE:GREGORIAN
METHOD:PUBLISH
X-WR-CALNAME:Aktiv&#039;Avignon - Sorties - Loisirs - Activités - Nouveaux arrivants - Vaucluse - Association
X-ORIGINAL-URL:https://www.aktivavignon.com
X-WR-CALDESC:Évènements pour Aktiv&#039;Avignon - Sorties - Loisirs - Activités - Nouveaux arrivants - Vaucluse - Association
BEGIN:VEVENT
DTSTART;VALUE=DATE:20191201
DTEND;VALUE=DATE:20191202
DTSTAMP:20260422T192147
CREATED:20191110T172915Z
LAST-MODIFIED:20191110T172915Z
UID:39051448-1575158400-1575244799@www.aktivavignon.com
SUMMARY:Pièce de Théâtre "La puce à l'oreille"
DESCRIPTION:
URL:https://www.aktivavignon.com/agenda/piece-de-theatre-la-puce-a-loreille/
CATEGORIES:Sorties
END:VEVENT
END:VCALENDAR