﻿BEGIN:VCALENDAR
VERSION:2.0
PRODID:-//Aktiv&#039;Avignon - Sorties - Loisirs - Activités - Nouveaux arrivants - Vaucluse - Association - ECPv4.7.2//NONSGML v1.0//EN
CALSCALE:GREGORIAN
METHOD:PUBLISH
X-WR-CALNAME:Aktiv&#039;Avignon - Sorties - Loisirs - Activités - Nouveaux arrivants - Vaucluse - Association
X-ORIGINAL-URL:https://www.aktivavignon.com
X-WR-CALDESC:Évènements pour Aktiv&#039;Avignon - Sorties - Loisirs - Activités - Nouveaux arrivants - Vaucluse - Association
BEGIN:VEVENT
DTSTART;TZID=Europe/Paris:20191109T180000
DTEND;TZID=Europe/Paris:20191109T193000
DTSTAMP:20260422T132444
CREATED:20191013T222612Z
LAST-MODIFIED:20191013T222612Z
UID:38933036-1573322400-1573327800@www.aktivavignon.com
SUMMARY:Opération Minos
DESCRIPTION:
URL:https://www.aktivavignon.com/agenda/operation-minos/
END:VEVENT
END:VCALENDAR