﻿BEGIN:VCALENDAR
VERSION:2.0
PRODID:-//Aktiv&#039;Avignon - Sorties - Loisirs - Activités - Nouveaux arrivants - Vaucluse - Association - ECPv4.7.2//NONSGML v1.0//EN
CALSCALE:GREGORIAN
METHOD:PUBLISH
X-WR-CALNAME:Aktiv&#039;Avignon - Sorties - Loisirs - Activités - Nouveaux arrivants - Vaucluse - Association
X-ORIGINAL-URL:https://www.aktivavignon.com
X-WR-CALDESC:Évènements pour Aktiv&#039;Avignon - Sorties - Loisirs - Activités - Nouveaux arrivants - Vaucluse - Association
BEGIN:VEVENT
DTSTART;VALUE=DATE:20191207
DTEND;VALUE=DATE:20191208
DTSTAMP:20260422T225259
CREATED:20191201T155945Z
LAST-MODIFIED:20191201T155945Z
UID:39119150-1575676800-1575763199@www.aktivavignon.com
SUMMARY:Fête des lumières Isle sur la sorgue
DESCRIPTION:
URL:https://www.aktivavignon.com/agenda/fete-des-lumieres-isle-sur-la-sorgue/
CATEGORIES:Sorties
END:VEVENT
END:VCALENDAR