﻿BEGIN:VCALENDAR
VERSION:2.0
PRODID:-//Aktiv&#039;Avignon - Sorties - Loisirs - Activités - Nouveaux arrivants - Vaucluse - Association - ECPv4.7.2//NONSGML v1.0//EN
CALSCALE:GREGORIAN
METHOD:PUBLISH
X-WR-CALNAME:Aktiv&#039;Avignon - Sorties - Loisirs - Activités - Nouveaux arrivants - Vaucluse - Association
X-ORIGINAL-URL:https://www.aktivavignon.com
X-WR-CALDESC:Évènements pour Aktiv&#039;Avignon - Sorties - Loisirs - Activités - Nouveaux arrivants - Vaucluse - Association
BEGIN:VEVENT
DTSTART;TZID=Europe/Paris:20230621T190000
DTEND;TZID=Europe/Paris:20230621T230000
DTSTAMP:20260425T132803
CREATED:20230617T151033Z
LAST-MODIFIED:20230617T151033Z
UID:44054433-1687374000-1687388400@www.aktivavignon.com
SUMMARY:Fête de la musique à Avignon
DESCRIPTION:On se retrouve pour profiter de la fête de la musique dans les rues d’Avignon ! \n \n
URL:https://www.aktivavignon.com/agenda/fete-de-la-musique-a-avignon/
END:VEVENT
END:VCALENDAR