﻿BEGIN:VCALENDAR
VERSION:2.0
PRODID:-//Aktiv&#039;Avignon - Sorties - Loisirs - Activités - Nouveaux arrivants - Vaucluse - Association - ECPv4.7.2//NONSGML v1.0//EN
CALSCALE:GREGORIAN
METHOD:PUBLISH
X-WR-CALNAME:Aktiv&#039;Avignon - Sorties - Loisirs - Activités - Nouveaux arrivants - Vaucluse - Association
X-ORIGINAL-URL:https://www.aktivavignon.com
X-WR-CALDESC:Évènements pour Aktiv&#039;Avignon - Sorties - Loisirs - Activités - Nouveaux arrivants - Vaucluse - Association
BEGIN:VEVENT
DTSTART;TZID=Europe/Paris:20220713T080000
DTEND;TZID=Europe/Paris:20220713T170000
DTSTAMP:20260421T111056
CREATED:20220511T161714Z
LAST-MODIFIED:20220511T161714Z
UID:42592952-1657699200-1657731600@www.aktivavignon.com
SUMMARY:Festival de Nîmes
DESCRIPTION:
URL:https://www.aktivavignon.com/agenda/festival-de-nimes/
END:VEVENT
END:VCALENDAR