﻿BEGIN:VCALENDAR
VERSION:2.0
PRODID:-//Aktiv&#039;Avignon - Sorties - Loisirs - Activités - Nouveaux arrivants - Vaucluse - Association - ECPv4.7.2//NONSGML v1.0//EN
CALSCALE:GREGORIAN
METHOD:PUBLISH
X-WR-CALNAME:Aktiv&#039;Avignon - Sorties - Loisirs - Activités - Nouveaux arrivants - Vaucluse - Association
X-ORIGINAL-URL:https://www.aktivavignon.com
X-WR-CALDESC:Évènements pour Aktiv&#039;Avignon - Sorties - Loisirs - Activités - Nouveaux arrivants - Vaucluse - Association
BEGIN:VEVENT
DTSTART;TZID=Europe/Paris:20191010T200000
DTEND;TZID=Europe/Paris:20191010T210000
DTSTAMP:20260425T145609
CREATED:20191009T194425Z
LAST-MODIFIED:20191009T194425Z
UID:38897495-1570737600-1570741200@www.aktivavignon.com
SUMMARY:Escape Game - Jeudi 10 Octobre - Halloween approche
DESCRIPTION:
URL:https://www.aktivavignon.com/agenda/escape-game-jeudi-10-octobre-halloween-approche/
END:VEVENT
END:VCALENDAR