﻿BEGIN:VCALENDAR
VERSION:2.0
PRODID:-//Aktiv&#039;Avignon - Sorties - Loisirs - Activités - Nouveaux arrivants - Vaucluse - Association - ECPv4.7.2//NONSGML v1.0//EN
CALSCALE:GREGORIAN
METHOD:PUBLISH
X-WR-CALNAME:Aktiv&#039;Avignon - Sorties - Loisirs - Activités - Nouveaux arrivants - Vaucluse - Association
X-ORIGINAL-URL:https://www.aktivavignon.com
X-WR-CALDESC:Évènements pour Aktiv&#039;Avignon - Sorties - Loisirs - Activités - Nouveaux arrivants - Vaucluse - Association
BEGIN:VEVENT
DTSTART;TZID=Europe/Paris:20220917T180000
DTEND;TZID=Europe/Paris:20220917T190000
DTSTAMP:20260425T164615
CREATED:20220914T132258Z
LAST-MODIFIED:20220914T132258Z
UID:43217892-1663437600-1663441200@www.aktivavignon.com
SUMMARY:Escape Game aux Archives départementales
DESCRIPTION:Dans le cadre de la journée du Patrimoine\, escape game dans les archives départementales\, au Palais des Papes \n \n
URL:https://www.aktivavignon.com/agenda/escape-game-aux-archives-departementales/
END:VEVENT
END:VCALENDAR