﻿BEGIN:VCALENDAR
VERSION:2.0
PRODID:-//Aktiv&#039;Avignon - Sorties - Loisirs - Activités - Nouveaux arrivants - Vaucluse - Association - ECPv4.7.2//NONSGML v1.0//EN
CALSCALE:GREGORIAN
METHOD:PUBLISH
X-WR-CALNAME:Aktiv&#039;Avignon - Sorties - Loisirs - Activités - Nouveaux arrivants - Vaucluse - Association
X-ORIGINAL-URL:https://www.aktivavignon.com
X-WR-CALDESC:Évènements pour Aktiv&#039;Avignon - Sorties - Loisirs - Activités - Nouveaux arrivants - Vaucluse - Association
BEGIN:VEVENT
DTSTART;TZID=Europe/Paris:20191012T080000
DTEND;TZID=Europe/Paris:20191012T170000
DTSTAMP:20260425T110705
CREATED:20190906T133551Z
LAST-MODIFIED:20190906T133551Z
UID:38497758-1570867200-1570899600@www.aktivavignon.com
SUMMARY:Escales voyageuses
DESCRIPTION:3ème Festival Escales Voyageuses en Gard Rhodanien \n \n
URL:https://www.aktivavignon.com/agenda/escales-voyageuses/
END:VEVENT
END:VCALENDAR