﻿BEGIN:VCALENDAR
VERSION:2.0
PRODID:-//Aktiv&#039;Avignon - Sorties - Loisirs - Activités - Nouveaux arrivants - Vaucluse - Association - ECPv4.7.2//NONSGML v1.0//EN
CALSCALE:GREGORIAN
METHOD:PUBLISH
X-WR-CALNAME:Aktiv&#039;Avignon - Sorties - Loisirs - Activités - Nouveaux arrivants - Vaucluse - Association
X-ORIGINAL-URL:https://www.aktivavignon.com
X-WR-CALDESC:Évènements pour Aktiv&#039;Avignon - Sorties - Loisirs - Activités - Nouveaux arrivants - Vaucluse - Association
BEGIN:VEVENT
DTSTART;TZID=Europe/Paris:20220624T193000
DTEND;TZID=Europe/Paris:20220624T233000
DTSTAMP:20260421T095333
CREATED:20220531T161300Z
LAST-MODIFIED:20220531T161300Z
UID:42688470-1656099000-1656113400@www.aktivavignon.com
SUMMARY:Destination Cosmos aux carrières de Lumière
DESCRIPTION:Bonjour tout le monde\, \n\nL’exposition aux Ateliers des Lumières de Paris «  Destination Cosmos : l’ultime défi » s’invite dans les carrières des Baux de Provence. « Un voyage unique qui débute au cœur de la foret tropicale guyanaise et prend fin aux confins de l’univers » \n\nJe vous propose de découvrir ce voyage le Vendredi 24 juin à 19h30. \nLes séances se font uniquement en soirée. \nLe tarif est de 12€/personne. \nPour plus d’infos et pour la résa : https://www.carrieres-lumieres.com/fr \n\n                                                      \n
URL:https://www.aktivavignon.com/agenda/destination-cosmos-aux-carrieres-de-lumiere/
END:VEVENT
END:VCALENDAR