﻿BEGIN:VCALENDAR
VERSION:2.0
PRODID:-//Aktiv&#039;Avignon - Sorties - Loisirs - Activités - Nouveaux arrivants - Vaucluse - Association - ECPv4.7.2//NONSGML v1.0//EN
CALSCALE:GREGORIAN
METHOD:PUBLISH
X-WR-CALNAME:Aktiv&#039;Avignon - Sorties - Loisirs - Activités - Nouveaux arrivants - Vaucluse - Association
X-ORIGINAL-URL:https://www.aktivavignon.com
X-WR-CALDESC:Évènements pour Aktiv&#039;Avignon - Sorties - Loisirs - Activités - Nouveaux arrivants - Vaucluse - Association
BEGIN:VEVENT
DTSTART;TZID=Europe/Paris:20191018T080000
DTEND;TZID=Europe/Paris:20191018T200000
DTSTAMP:20260423T052432
CREATED:20191009T195013Z
LAST-MODIFIED:20191009T195013Z
UID:38897499-1571385600-1571428800@www.aktivavignon.com
SUMMARY:By Night out - Live escape game
DESCRIPTION:
URL:https://www.aktivavignon.com/agenda/by-night-out-live-escape-game/
END:VEVENT
END:VCALENDAR