﻿BEGIN:VCALENDAR
VERSION:2.0
PRODID:-//Aktiv&#039;Avignon - Sorties - Loisirs - Activités - Nouveaux arrivants - Vaucluse - Association - ECPv4.7.2//NONSGML v1.0//EN
CALSCALE:GREGORIAN
METHOD:PUBLISH
X-WR-CALNAME:Aktiv&#039;Avignon - Sorties - Loisirs - Activités - Nouveaux arrivants - Vaucluse - Association
X-ORIGINAL-URL:https://www.aktivavignon.com
X-WR-CALDESC:Évènements pour Aktiv&#039;Avignon - Sorties - Loisirs - Activités - Nouveaux arrivants - Vaucluse - Association
BEGIN:VEVENT
DTSTART;TZID=Europe/Paris:20220827T183000
DTEND;TZID=Europe/Paris:20220827T183000
DTSTAMP:20260425T114215
CREATED:20220822T153929Z
LAST-MODIFIED:20220822T153929Z
UID:43087340-1661625000-1661625000@www.aktivavignon.com
SUMMARY:Ban des Vendanges
DESCRIPTION:Le traditionnel ban des vendanges revient cette année pour la 26 ème édition\, samedi 27 Août.  Toujours gratuits avec des dégustations\, animations et concert. Il se déroule au Rocher des Doms à Avignon.\nQui est partant ? Nous pourrions nous y retrouver vers 18h30.\n\n\nVoici le lien et il y a aussi une page Facebook.\nhttps://compagnonscotesdurhone.fr/le-ban-des-vendanges/\n\n\n
URL:https://www.aktivavignon.com/agenda/ban-des-vendanges/
END:VEVENT
END:VCALENDAR