﻿BEGIN:VCALENDAR
VERSION:2.0
PRODID:-//Aktiv&#039;Avignon - Sorties - Loisirs - Activités - Nouveaux arrivants - Vaucluse - Association - ECPv4.7.2//NONSGML v1.0//EN
CALSCALE:GREGORIAN
METHOD:PUBLISH
X-WR-CALNAME:Aktiv&#039;Avignon - Sorties - Loisirs - Activités - Nouveaux arrivants - Vaucluse - Association
X-ORIGINAL-URL:https://www.aktivavignon.com
X-WR-CALDESC:Évènements pour Aktiv&#039;Avignon - Sorties - Loisirs - Activités - Nouveaux arrivants - Vaucluse - Association
BEGIN:VEVENT
DTSTART;VALUE=DATE:20191026
DTEND;VALUE=DATE:20191027
DTSTAMP:20260423T034234
CREATED:20190906T135033Z
LAST-MODIFIED:20190906T135033Z
UID:38497771-1572048000-1572134399@www.aktivavignon.com
SUMMARY:Après midi jeux de société
DESCRIPTION:
URL:https://www.aktivavignon.com/agenda/apres-midi-jeux-de-societe/
END:VEVENT
END:VCALENDAR